BEGIN:VCALENDAR
VERSION:2.0
PRODID:-//gleispark-oldenburg.de - ECPv6.15.20//NONSGML v1.0//EN
CALSCALE:GREGORIAN
METHOD:PUBLISH
X-ORIGINAL-URL:https://gleispark-oldenburg.de
X-WR-CALDESC:Veranstaltungen für gleispark-oldenburg.de
REFRESH-INTERVAL;VALUE=DURATION:PT1H
X-Robots-Tag:noindex
X-PUBLISHED-TTL:PT1H
BEGIN:VTIMEZONE
TZID:Europe/Berlin
BEGIN:DAYLIGHT
TZOFFSETFROM:+0100
TZOFFSETTO:+0200
TZNAME:CEST
DTSTART:20250330T010000
END:DAYLIGHT
BEGIN:STANDARD
TZOFFSETFROM:+0200
TZOFFSETTO:+0100
TZNAME:CET
DTSTART:20251026T010000
END:STANDARD
BEGIN:DAYLIGHT
TZOFFSETFROM:+0100
TZOFFSETTO:+0200
TZNAME:CEST
DTSTART:20260329T010000
END:DAYLIGHT
BEGIN:STANDARD
TZOFFSETFROM:+0200
TZOFFSETTO:+0100
TZNAME:CET
DTSTART:20261025T010000
END:STANDARD
BEGIN:DAYLIGHT
TZOFFSETFROM:+0100
TZOFFSETTO:+0200
TZNAME:CEST
DTSTART:20270328T010000
END:DAYLIGHT
BEGIN:STANDARD
TZOFFSETFROM:+0200
TZOFFSETTO:+0100
TZNAME:CET
DTSTART:20271031T010000
END:STANDARD
END:VTIMEZONE
BEGIN:VEVENT
DTSTART;TZID=Europe/Berlin:20260426T100000
DTEND;TZID=Europe/Berlin:20260426T120000
DTSTAMP:20260424T135018
CREATED:20260331T115931Z
LAST-MODIFIED:20260331T115931Z
UID:10007575-1777197600-1777204800@gleispark-oldenburg.de
SUMMARY:Yoga & Brunch mit Rosa
DESCRIPTION:Sonnen Vinyasa Flow mit Prana Rosa und danach ein buntes Buffet (vegan/ Veggie) \nLetztes Mal Yoga & Brunch \n10Uhr Vinyasa Flow mit Rosa \nab 11Uhr vegetarischer/veganer Brunch \n  \nTickets: Rausgegangen
URL:https://gleispark-oldenburg.de/event/yoga-brunch-mit-rosa-2/
LOCATION:Gleispark
END:VEVENT
END:VCALENDAR